BEGIN:VCALENDAR
VERSION:2.0
PRODID:-//103.227.176.14//NONSGML kigkonsult.se iCalcreator 2.24.2//
CALSCALE:GREGORIAN
METHOD:PUBLISH
X-FROM-URL:https://youngguns.org.au
X-WR-TIMEZONE:Australia/Perth
BEGIN:VTIMEZONE
TZID:Australia/Perth
X-LIC-LOCATION:Australia/Perth
BEGIN:STANDARD
DTSTART:20090329T030000
TZOFFSETFROM:+0900
TZOFFSETTO:+0800
TZNAME:AWST
END:STANDARD
END:VTIMEZONE
BEGIN:VEVENT
UID:ai1ec-255@youngguns.org.au
DTSTAMP:20190228T091215Z
CATEGORIES:
CONTACT:
DESCRIPTION:
DTSTART;VALUE=DATE:20170425
DTEND;VALUE=DATE:20170426
SEQUENCE:0
SUMMARY:Fortnightly Meeting Cancelled
URL:https://youngguns.org.au/event/fortnightly-meeting-cancelled/
X-COST-TYPE:free
END:VEVENT
BEGIN:VEVENT
UID:ai1ec-245@youngguns.org.au
DTSTAMP:20190228T091215Z
CATEGORIES:
CONTACT:
DESCRIPTION:Lazy Susan’s Comedy Den\, The Brisbane Hotel (upstairs)\, 292 B
 eaufort Street\, Highgate W.A.
DTSTART;TZID=Australia/Perth:20170411T180000
EXDATE;TZID=Australia/Perth:20170425T180000
EXDATE;TZID=Australia/Perth:20171107T180000
GEO:-31.94397;+115.86634
LOCATION:The Brisbane Hotel @ 292 Beaufort Street\, Highgate W.A.
RRULE:FREQ=WEEKLY;INTERVAL=2;BYDAY=TU;WKST=MO
SEQUENCE:0
SUMMARY:Young Guns Fortnightly Meetings
URL:https://youngguns.org.au/event/young-guns-fortnightly-meetings/
X-COST-TYPE:free
X-ALT-DESC;FMTTYPE=text/html:<!DOCTYPE HTML PUBLIC '-//W3C//DTD HTML 3.2//E
 N'>\\n<HTML>\\n<HEAD>\\n<TITLE></TITLE>\\n</HEAD>\\n<BODY><p>Lazy Susan’s 
 Comedy Den\, The Brisbane Hotel (upstairs)\, 292 Beaufort Street\, Highgat
 e W.A.</p>\n</BODY></HTML>
X-INSTANT-EVENT:1
END:VEVENT
BEGIN:VEVENT
UID:ai1ec-323@youngguns.org.au
DTSTAMP:20190228T091215Z
CATEGORIES:
CONTACT:
DESCRIPTION:We will have a special guest to tell us all about Toastmasters 
 new education program called Pathways.\nPathways is a modernized learning 
 experience suited to our changing global society\, designed to help you bu
 ild the skills you need to communicate and lead. It offers you more benefi
 ts and more opportunities to learn\, grow and meet personal and profession
 al goals. It enables you to develop additional skills you can use not just
  at Toastmasters\, but at your job or in your community as well.
DTSTART;TZID=Australia/Perth:20171107T180000
DTEND;TZID=Australia/Perth:20171107T190000
GEO:-31.943955;+115.866345
LOCATION:The Brisbane Hotel @ 292 Beaufort St\, Perth WA 6000\, Australia
SEQUENCE:0
SUMMARY:Introduction to Pathways
URL:https://youngguns.org.au/event/introduction-to-pathways/
X-COST-TYPE:free
X-ALT-DESC;FMTTYPE=text/html:<!DOCTYPE HTML PUBLIC '-//W3C//DTD HTML 3.2//E
 N'>\\n<HTML>\\n<HEAD>\\n<TITLE></TITLE>\\n</HEAD>\\n<BODY><p>We will have 
 a special guest to tell us all about Toastmasters new education program ca
 lled Pathways.</p>\n<p>Pathways is a modernized learning experience suited
  to our changing global society\, designed to help you build the skills yo
 u need to communicate and lead. It offers you more benefits and more oppor
 tunities to learn\, grow and meet personal and professional goals. It enab
 les you to develop additional skills you can use not just at Toastmasters\
 , but at your job or in your community as well.</p>\n</BODY></HTML>
END:VEVENT
END:VCALENDAR
